BEGIN:VCALENDAR
PRODID:P. E. Schall GmbH &amp; Co. KG
VERSION:2.0
CALSCALE:GREGORIAN
BEGIN:VEVENT
UID:a30e23084bd87cc0a40ecde0fdabc7ee-calID-motek@schall-messen.de
ORGANIZER;CN="tepcon GmbH ":
LOCATION:Halle 5 Stand 5435
SUMMARY:Mit digitalen Anleitungen: Wissen sichern, Einlernzeiten verkürzen, Prozesse optimieren
DESCRIPTION:Präsentator Herr Christoph Kluge\nhttps://www.motek-messe.de/Fachvortrag/3749-mit-digitalen-anleitungen--wissen-sichern--einlernzeiten-verkuerzen--prozesse-optimieren
CLASS:PUBLIC
TZID:Europe_Central
DTSTART:20241010T110000
DTEND:20241010T114000
DTSTAMP:20260424204524Z
END:VEVENT
END:VCALENDAR